BEGIN:VCALENDAR
VERSION:2.0
PRODID:icalendar-ruby
CALSCALE:GREGORIAN
BEGIN:VEVENT
DTSTAMP:20260423T183529Z
UID:5d5ab622-1cdd-4822-8897-c8116c5a493d
DTSTART:20231024T090000
DTEND:20231024T180000
DESCRIPTION:
LOCATION:Никольская улица\, 12
ORGANIZER:mailto:conference@vedomosti.ru
SUMMARY:ЭкоБаланс
URL:http://events.vedomosti.ru/events/eco_23
BEGIN:VALARM
ACTION:DISPLAY
TRIGGER:-P1D
DESCRIPTION:Завтра\, в 09:00. ЭкоБаланс
END:VALARM
END:VEVENT
END:VCALENDAR
