BEGIN:VCALENDAR
VERSION:2.0
PRODID:icalendar-ruby
CALSCALE:GREGORIAN
BEGIN:VEVENT
DTSTAMP:20260423T110113Z
UID:31ef52bc-9eb7-476e-b79c-ef4f0e555487
DTSTART:20211019T090000
DTEND:20211019T190000
DESCRIPTION:
LOCATION:Новинский бульвар\, д.8\, стр.2
ORGANIZER:mailto:conference@vedomosti.ru
SUMMARY:Промышленная экология: новые реалии 
 и стандарты будущего
URL:http://events.vedomosti.ru/events/eco_21
BEGIN:VALARM
ACTION:DISPLAY
TRIGGER:-P1D
DESCRIPTION:Завтра\, в 09:00. Промышленная эколог
 ия: новые реалии и стандарты будущего
END:VALARM
END:VEVENT
END:VCALENDAR
