BEGIN:VCALENDAR
VERSION:2.0
PRODID:icalendar-ruby
CALSCALE:GREGORIAN
BEGIN:VEVENT
DTSTAMP:20260423T084228Z
UID:eab98b30-8172-40de-9ede-3d1a453fab3e
DTSTART:20201014T090000
DTEND:20201014T190000
DESCRIPTION:
LOCATION:Новинский бульвар\, д.8\, стр.2
ORGANIZER:mailto:conference@vedomosti.ru
SUMMARY:Промышленная экология: курс на безоп
 асность
URL:http://events.vedomosti.ru/events/eco_20
BEGIN:VALARM
ACTION:DISPLAY
TRIGGER:-P1D
DESCRIPTION:Завтра\, в 09:00. Промышленная эколог
 ия: курс на безопасность
END:VALARM
END:VEVENT
END:VCALENDAR
