BEGIN:VCALENDAR
VERSION:2.0
PRODID:icalendar-ruby
CALSCALE:GREGORIAN
BEGIN:VEVENT
DTSTAMP:20260420T185233Z
UID:752d1e84-65a9-4673-a175-b8f7122a6ad4
DTSTART:20171031T090000
DTEND:20171031T180000
DESCRIPTION:
LOCATION:Кутузовский проспект\, 2/1 стр.1\,
ORGANIZER:mailto:conference@vedomosti.ru
SUMMARY:Евразийская интеграция
URL:http://events.vedomosti.ru/events/eabr_17
BEGIN:VALARM
ACTION:DISPLAY
TRIGGER:-P1D
DESCRIPTION:Завтра\, в 09:00. Евразийская интегра
 ция
END:VALARM
END:VEVENT
END:VCALENDAR
