BEGIN:VCALENDAR
VERSION:2.0
PRODID:icalendar-ruby
CALSCALE:GREGORIAN
BEGIN:VEVENT
DTSTAMP:20260426T033218Z
UID:cf030bac-01d4-4db3-8140-e0c94e07f8bf
DTSTART:20121128T183500
DTEND:20121129T183500
DESCRIPTION:
LOCATION:ул. Тверская\, д. 3
ORGANIZER:mailto:conference@vedomosti.ru
SUMMARY:Драйверы роста фондового рынка Росс
 ии
URL:http://events.vedomosti.ru/events/dffr12
BEGIN:VALARM
ACTION:DISPLAY
TRIGGER:-P1D
DESCRIPTION:Завтра\, в 18:35. Драйверы роста фондо
 вого рынка России
END:VALARM
END:VEVENT
END:VCALENDAR
