BEGIN:VCALENDAR
VERSION:2.0
PRODID:icalendar-ruby
CALSCALE:GREGORIAN
BEGIN:VEVENT
DTSTAMP:20260424T114624Z
UID:6b746145-48ba-47a7-8df2-c9a7a1ba7e88
DTSTART:20150219T090000
DTEND:20150219T170000
DESCRIPTION:
LOCATION:улица Петровка\, 11
ORGANIZER:mailto:conference@vedomosti.ru
SUMMARY:Кризис корпоративного долга.
URL:http://events.vedomosti.ru/events/crisis15
BEGIN:VALARM
ACTION:DISPLAY
TRIGGER:-P1D
DESCRIPTION:Завтра\, в 09:00. Кризис корпоративно
 го долга.
END:VALARM
END:VEVENT
END:VCALENDAR
