BEGIN:VCALENDAR
VERSION:2.0
PRODID:icalendar-ruby
CALSCALE:GREGORIAN
BEGIN:VEVENT
DTSTAMP:20260422T220121Z
UID:c6974463-a9b4-4d18-bcc1-34f4fb80f6e5
DTSTART:20080411T172900
DTEND:20080411T173000
DESCRIPTION:
LOCATION:ул. Тверская\, 26
ORGANIZER:mailto:conference@vedomosti.ru
SUMMARY:Кредитный портфель
URL:http://events.vedomosti.ru/events/credit8
BEGIN:VALARM
ACTION:DISPLAY
TRIGGER:-P1D
DESCRIPTION:Завтра\, в 17:29. Кредитный портфель
END:VALARM
END:VEVENT
END:VCALENDAR
