BEGIN:VCALENDAR
VERSION:2.0
PRODID:icalendar-ruby
CALSCALE:GREGORIAN
BEGIN:VEVENT
DTSTAMP:20260426T033218Z
UID:74037b83-6850-4eab-bfef-ca602a2e0ac9
DTSTART:20111123T174300
DTEND:20111124T174300
DESCRIPTION:
LOCATION:ул. Тверская\, д. 3
ORGANIZER:mailto:conference@vedomosti.ru
SUMMARY:Бизнес против коррупции: методика\, п
 рактика\, опыт
URL:http://events.vedomosti.ru/events/corruption11
BEGIN:VALARM
ACTION:DISPLAY
TRIGGER:-P1D
DESCRIPTION:Завтра\, в 17:43. Бизнес против корруп
 ции: методика\, практика\, опыт
END:VALARM
END:VEVENT
END:VCALENDAR
