BEGIN:VCALENDAR
VERSION:2.0
PRODID:icalendar-ruby
CALSCALE:GREGORIAN
BEGIN:VEVENT
DTSTAMP:20260422T210925Z
UID:3c67d2e4-2bf7-49f0-9d07-56c5bc9b9d44
DTSTART:20130910T143400
DTEND:20130910T143400
DESCRIPTION:
LOCATION:ул. Международная\, д. 16\, 18\, 20.
ORGANIZER:mailto:conference@vedomosti.ru
SUMMARY:КомАвто 2013
URL:http://events.vedomosti.ru/events/comtr13
BEGIN:VALARM
ACTION:DISPLAY
TRIGGER:-P1D
DESCRIPTION:Завтра\, в 14:34. КомАвто 2013
END:VALARM
END:VEVENT
END:VCALENDAR
