BEGIN:VCALENDAR
VERSION:2.0
PRODID:icalendar-ruby
CALSCALE:GREGORIAN
BEGIN:VEVENT
DTSTAMP:20260422T222530Z
UID:0d8118b1-51ab-40a6-add4-b16c4c65d68a
DTSTART:20120302T215000
DTEND:20120302T215000
DESCRIPTION:
LOCATION:Космодамианская наб.\, 52\, стр. 6
ORGANIZER:mailto:conference@vedomosti.ru
SUMMARY:КомАвто 2012
URL:http://events.vedomosti.ru/events/comtr12
BEGIN:VALARM
ACTION:DISPLAY
TRIGGER:-P1D
DESCRIPTION:Завтра\, в 21:50. КомАвто 2012
END:VALARM
END:VEVENT
END:VCALENDAR
