BEGIN:VCALENDAR
VERSION:2.0
PRODID:icalendar-ruby
CALSCALE:GREGORIAN
BEGIN:VEVENT
DTSTAMP:20260424T004709Z
UID:b3b81ff5-16f0-43b9-9862-09a68ead3ffb
DTSTART:20170713T183000
DTEND:20170713T200000
DESCRIPTION:
LOCATION:Исаакиевская площадь\, 1
ORGANIZER:mailto:conference@vedomosti.ru
SUMMARY:Российская экономика: взгляд за гори
 зонт
URL:http://events.vedomosti.ru/events/commercial_russekonom17
BEGIN:VALARM
ACTION:DISPLAY
TRIGGER:-P1D
DESCRIPTION:Завтра\, в 18:30. Российская экономик
 а: взгляд за горизонт
END:VALARM
END:VEVENT
END:VCALENDAR
