BEGIN:VCALENDAR
VERSION:2.0
PRODID:icalendar-ruby
CALSCALE:GREGORIAN
BEGIN:VEVENT
DTSTAMP:20260422T134509Z
UID:41df6617-17dd-439d-a69b-78bd9f07a55d
DTSTART:20260518T173000
DTEND:20260518T183000
DESCRIPTION:
LOCATION:Совнаркомовская улица\, 13
ORGANIZER:mailto:conference@vedomosti.ru
SUMMARY:Как компании живут с ИИ – честный ра
 зговор
URL:http://events.vedomosti.ru/events/cipr_ai26
BEGIN:VALARM
ACTION:DISPLAY
TRIGGER:-P1D
DESCRIPTION:Завтра\, в 17:30. Как компании живут с 
 ИИ – честный разговор
END:VALARM
END:VEVENT
END:VCALENDAR
