BEGIN:VCALENDAR
VERSION:2.0
PRODID:icalendar-ruby
CALSCALE:GREGORIAN
BEGIN:VEVENT
DTSTAMP:20260425T165201Z
UID:7ee3c2e4-b3a4-4d54-9292-64b1f2c30c87
DTSTART:20260518T000000
DTEND:20260518T180000
DESCRIPTION:
LOCATION:Совнаркомовская улица\, 13
ORGANIZER:mailto:conference@vedomosti.ru
SUMMARY:Современные технологии управления р
 есурсами предприятия
URL:http://events.vedomosti.ru/events/cipr26
BEGIN:VALARM
ACTION:DISPLAY
TRIGGER:-P1D
DESCRIPTION:Завтра\, в 00:00. Современные техноло
 гии управления ресурсами предприятия
END:VALARM
END:VEVENT
END:VCALENDAR
