BEGIN:VCALENDAR
VERSION:2.0
PRODID:icalendar-ruby
CALSCALE:GREGORIAN
BEGIN:VEVENT
DTSTAMP:20260421T215528Z
UID:e053c626-83f3-4ce5-860c-aee9eab571f4
DTSTART:20171213T080000
DTEND:20171213T180000
DESCRIPTION:
LOCATION:Большой Знаменский переулок\, 2с3
ORGANIZER:mailto:conference@vedomosti.ru
SUMMARY:Лидеры корпоративной благотворител
 ьности - 2017
URL:http://events.vedomosti.ru/events/charity
BEGIN:VALARM
ACTION:DISPLAY
TRIGGER:-P1D
DESCRIPTION:Завтра\, в 08:00. Лидеры корпоративно
 й благотворительности - 2017
END:VALARM
END:VEVENT
END:VCALENDAR
