BEGIN:VCALENDAR
VERSION:2.0
PRODID:icalendar-ruby
CALSCALE:GREGORIAN
BEGIN:VEVENT
DTSTAMP:20260421T031604Z
UID:9d361caf-d376-42c4-b772-5b57a4e84c5e
DTSTART:20191128T090000
DTEND:20191128T170000
DESCRIPTION:
LOCATION:Шлюзовая наб.\, 2/1\, стр.1
ORGANIZER:mailto:conference@vedomosti.ru
SUMMARY:Город как сумма технологий
URL:http://events.vedomosti.ru/events/c_technology19
BEGIN:VALARM
ACTION:DISPLAY
TRIGGER:-P1D
DESCRIPTION:Завтра\, в 09:00. Город как сумма техн
 ологий
END:VALARM
END:VEVENT
END:VCALENDAR
