BEGIN:VCALENDAR
VERSION:2.0
PRODID:icalendar-ruby
CALSCALE:GREGORIAN
BEGIN:VEVENT
DTSTAMP:20260425T234841Z
UID:cf2f341a-bc5f-4b3b-ab4e-ad8939f22eed
DTSTART:20121128T123900
DTEND:20121129T123900
DESCRIPTION:
LOCATION:ул. Тверская\, д. 3
ORGANIZER:mailto:conference@vedomosti.ru
SUMMARY:Бизнес против коррупции
URL:http://events.vedomosti.ru/events/bnsffr12
BEGIN:VALARM
ACTION:DISPLAY
TRIGGER:-P1D
DESCRIPTION:Завтра\, в 12:39. Бизнес против корруп
 ции
END:VALARM
END:VEVENT
END:VCALENDAR
