BEGIN:VCALENDAR
VERSION:2.0
PRODID:icalendar-ruby
CALSCALE:GREGORIAN
BEGIN:VEVENT
DTSTAMP:20260423T134740Z
UID:4979dee4-3e50-4779-ac3d-ddc50c886156
DTSTART:20210301T090000
DTEND:20210301T190000
DESCRIPTION:
LOCATION:улица Петровка\, 11
ORGANIZER:mailto:conference@vedomosti.ru
SUMMARY:Благотворительность в России: решен
 ия нового времени
URL:http://events.vedomosti.ru/events/blag21
BEGIN:VALARM
ACTION:DISPLAY
TRIGGER:-P1D
DESCRIPTION:Завтра\, в 09:00. Благотворительность
  в России: решения нового времени
END:VALARM
END:VEVENT
END:VCALENDAR
