BEGIN:VCALENDAR
VERSION:2.0
PRODID:icalendar-ruby
CALSCALE:GREGORIAN
BEGIN:VEVENT
DTSTAMP:20260425T213411Z
UID:b4b470c5-1aaa-4c25-a633-470fcc56418d
DTSTART:20150308T080000
DTEND:20150309T190000
DESCRIPTION:
LOCATION:Rue Royale 94\,  1000 Brussels\, Belgium
ORGANIZER:mailto:conference@vedomosti.ru
SUMMARY:Благотворительность в России
URL:http://events.vedomosti.ru/events/blag15
BEGIN:VALARM
ACTION:DISPLAY
TRIGGER:-P1D
DESCRIPTION:Завтра\, в 08:00. Благотворительность
  в России
END:VALARM
END:VEVENT
BEGIN:VEVENT
DTSTAMP:20260425T213411Z
UID:5081b4cb-4ec5-4ee1-8089-e5eba931206c
DTSTART:20150227T070000
DTEND:20150227T180000
DESCRIPTION:
LOCATION:улица Петровка\, 11
ORGANIZER:mailto:conference@vedomosti.ru
SUMMARY:Благотворительность в России
URL:http://events.vedomosti.ru/events/blag15
BEGIN:VALARM
ACTION:DISPLAY
TRIGGER:-P1D
DESCRIPTION:Завтра\, в 07:00. Благотворительность
  в России
END:VALARM
END:VEVENT
END:VCALENDAR
