BEGIN:VCALENDAR
VERSION:2.0
PRODID:icalendar-ruby
CALSCALE:GREGORIAN
BEGIN:VEVENT
DTSTAMP:20260426T012248Z
UID:558e57fc-2f13-40e6-a4a9-a86e9537be7e
DTSTART:20130419T163500
DTEND:20130419T163500
DESCRIPTION:
LOCATION:Москва\, Большой Гнездниковский пер
 еулок\, 10
ORGANIZER:mailto:conference@vedomosti.ru
SUMMARY:Благотворительность в России
URL:http://events.vedomosti.ru/events/blag13
BEGIN:VALARM
ACTION:DISPLAY
TRIGGER:-P1D
DESCRIPTION:Завтра\, в 16:35. Благотворительность
  в России
END:VALARM
END:VEVENT
END:VCALENDAR
