BEGIN:VCALENDAR
VERSION:2.0
PRODID:icalendar-ruby
CALSCALE:GREGORIAN
BEGIN:VEVENT
DTSTAMP:20260419T180147Z
UID:147d0b06-8f91-40a4-8dba-e659c239cfad
DTSTART:20261202T000000
DTEND:20261202T000000
DESCRIPTION:
LOCATION:
ORGANIZER:mailto:conference@vedomosti.ru
SUMMARY:Эра больших технологий
URL:http://events.vedomosti.ru/events/bigtech26
BEGIN:VALARM
ACTION:DISPLAY
TRIGGER:-P1D
DESCRIPTION:Завтра\, в 00:00. Эра больших технолог
 ий
END:VALARM
END:VEVENT
END:VCALENDAR
