BEGIN:VCALENDAR
VERSION:2.0
PRODID:icalendar-ruby
CALSCALE:GREGORIAN
BEGIN:VEVENT
DTSTAMP:20260426T020748Z
UID:9b2b1223-8698-4ed4-88d9-72876616167e
DTSTART:20111123T155100
DTEND:20111124T155100
DESCRIPTION:
LOCATION:ул. Тверская\, д. 3
ORGANIZER:mailto:conference@vedomosti.ru
SUMMARY:Банки
URL:http://events.vedomosti.ru/events/bffr11
BEGIN:VALARM
ACTION:DISPLAY
TRIGGER:-P1D
DESCRIPTION:Завтра\, в 15:51. Банки
END:VALARM
END:VEVENT
END:VCALENDAR
