BEGIN:VCALENDAR
VERSION:2.0
PRODID:icalendar-ruby
CALSCALE:GREGORIAN
BEGIN:VEVENT
DTSTAMP:20260422T074830Z
UID:4507d6fb-2e97-43b1-80d1-b9bab737a0a6
DTSTART:20200430T090000
DTEND:20200430T180000
DESCRIPTION:
LOCATION:
ORGANIZER:mailto:conference@vedomosti.ru
SUMMARY:BE SAFE. Данные в безопасности? ​
URL:http://events.vedomosti.ru/events/besafeonline
BEGIN:VALARM
ACTION:DISPLAY
TRIGGER:-P1D
DESCRIPTION:Завтра\, в 09:00. BE SAFE. Данные в безопа
 сности? ​
END:VALARM
END:VEVENT
END:VCALENDAR
