BEGIN:VCALENDAR
VERSION:2.0
PRODID:icalendar-ruby
CALSCALE:GREGORIAN
BEGIN:VEVENT
DTSTAMP:20260419T155803Z
UID:bb4170a7-e666-4bfa-bd6a-5cf04c1d3567
DTSTART:20220907T090000
DTEND:20220907T180000
DESCRIPTION:
LOCATION:улица Петровка\, 11
ORGANIZER:mailto:conference@vedomosti.ru
SUMMARY:Институт банкротства в России
URL:http://events.vedomosti.ru/events/bankruptcy2022
BEGIN:VALARM
ACTION:DISPLAY
TRIGGER:-P1D
DESCRIPTION:Завтра\, в 09:00. Институт банкротств
 а в России
END:VALARM
END:VEVENT
END:VCALENDAR
