BEGIN:VCALENDAR
VERSION:2.0
PRODID:icalendar-ruby
CALSCALE:GREGORIAN
BEGIN:VEVENT
DTSTAMP:20260421T083111Z
UID:21a3e0a4-9b3f-4370-8a13-a00927df49a3
DTSTART:20200911T090000
DTEND:20200911T190000
DESCRIPTION:
LOCATION:улица Петровка\, 11
ORGANIZER:mailto:conference@vedomosti.ru
SUMMARY:Институт банкротства в России
URL:http://events.vedomosti.ru/events/bankruptcy2020
BEGIN:VALARM
ACTION:DISPLAY
TRIGGER:-P1D
DESCRIPTION:Завтра\, в 09:00. Институт банкротств
 а в России
END:VALARM
END:VEVENT
END:VCALENDAR
