BEGIN:VCALENDAR
VERSION:2.0
PRODID:icalendar-ruby
CALSCALE:GREGORIAN
BEGIN:VEVENT
DTSTAMP:20260422T182231Z
UID:3a694d58-2919-4144-9eff-23945a42a323
DTSTART:20081128T121700
DTEND:20081128T121800
DESCRIPTION:
LOCATION:ул. Балчуг\, 1
ORGANIZER:mailto:conference@vedomosti.ru
SUMMARY:Банковский форум
URL:http://events.vedomosti.ru/events/bank8
BEGIN:VALARM
ACTION:DISPLAY
TRIGGER:-P1D
DESCRIPTION:Завтра\, в 12:17. Банковский форум
END:VALARM
END:VEVENT
END:VCALENDAR
