BEGIN:VCALENDAR
VERSION:2.0
PRODID:icalendar-ruby
CALSCALE:GREGORIAN
BEGIN:VEVENT
DTSTAMP:20260422T193423Z
UID:803b0c52-f871-463f-874a-db48b1f646a8
DTSTART:20071114T222200
DTEND:20071114T222200
DESCRIPTION:
LOCATION:ул. Балчуг\, 1
ORGANIZER:mailto:conference@vedomosti.ru
SUMMARY:Банковский форум
URL:http://events.vedomosti.ru/events/bank7
BEGIN:VALARM
ACTION:DISPLAY
TRIGGER:-P1D
DESCRIPTION:Завтра\, в 22:22. Банковский форум
END:VALARM
END:VEVENT
END:VCALENDAR
