BEGIN:VCALENDAR
VERSION:2.0
PRODID:icalendar-ruby
CALSCALE:GREGORIAN
BEGIN:VEVENT
DTSTAMP:20260423T001820Z
UID:858828ca-7893-4e8b-994e-b589c97539db
DTSTART:20100917T115300
DTEND:20100917T115300
DESCRIPTION:
LOCATION:ул. Тверская\, д. 3
ORGANIZER:mailto:conference@vedomosti.ru
SUMMARY:Банковские ипотечные облигации
URL:http://events.vedomosti.ru/events/bank610
BEGIN:VALARM
ACTION:DISPLAY
TRIGGER:-P1D
DESCRIPTION:Завтра\, в 11:53. Банковские ипотечны
 е облигации
END:VALARM
END:VEVENT
END:VCALENDAR
