BEGIN:VCALENDAR
VERSION:2.0
PRODID:icalendar-ruby
CALSCALE:GREGORIAN
BEGIN:VEVENT
DTSTAMP:20260426T033234Z
UID:5d201950-c44f-497d-91a5-87071620739c
DTSTART:20101124T111500
DTEND:20101124T111500
DESCRIPTION:
LOCATION:ул. Тверская\, д. 3
ORGANIZER:mailto:conference@vedomosti.ru
SUMMARY:Банки
URL:http://events.vedomosti.ru/events/bank10
BEGIN:VALARM
ACTION:DISPLAY
TRIGGER:-P1D
DESCRIPTION:Завтра\, в 11:15. Банки
END:VALARM
END:VEVENT
END:VCALENDAR
