BEGIN:VCALENDAR
VERSION:2.0
PRODID:icalendar-ruby
CALSCALE:GREGORIAN
BEGIN:VEVENT
DTSTAMP:20260422T172655Z
UID:45eb13a6-d9eb-451b-9fe2-9743469ea2e9
DTSTART:20100826T090200
DTEND:20100826T205700
DESCRIPTION:
LOCATION:ул. Международная\, д. 16\, 18\, 20.
ORGANIZER:mailto:conference@vedomosti.ru
SUMMARY:Автомобильный бизнес 2010
URL:http://events.vedomosti.ru/events/avto10
BEGIN:VALARM
ACTION:DISPLAY
TRIGGER:-P1D
DESCRIPTION:Завтра\, в 09:02. Автомобильный бизне
 с 2010
END:VALARM
END:VEVENT
END:VCALENDAR
