BEGIN:VCALENDAR
VERSION:2.0
PRODID:icalendar-ruby
CALSCALE:GREGORIAN
BEGIN:VEVENT
DTSTAMP:20260424T084733Z
UID:02841790-a41b-4548-aeea-08478882c118
DTSTART:20080417T140700
DTEND:20080417T140700
DESCRIPTION:
LOCATION:ул. Балчуг\, 1
ORGANIZER:mailto:conference@vedomosti.ru
SUMMARY:Авиафорум
URL:http://events.vedomosti.ru/events/avia8
BEGIN:VALARM
ACTION:DISPLAY
TRIGGER:-P1D
DESCRIPTION:Завтра\, в 14:07. Авиафорум
END:VALARM
END:VEVENT
END:VCALENDAR
