BEGIN:VCALENDAR
VERSION:2.0
PRODID:icalendar-ruby
CALSCALE:GREGORIAN
BEGIN:VEVENT
DTSTAMP:20260423T011727Z
UID:0f8e516a-7ffa-455f-8b4b-97e8b509b512
DTSTART:20170914T090000
DTEND:20170915T180000
DESCRIPTION:
LOCATION:Октябрьская улица\, 17А
ORGANIZER:mailto:conference@vedomosti.ru
SUMMARY:АвтоЭволюция 2017
URL:http://events.vedomosti.ru/events/auto_17
BEGIN:VALARM
ACTION:DISPLAY
TRIGGER:-P1D
DESCRIPTION:Завтра\, в 09:00. АвтоЭволюция 2017
END:VALARM
END:VEVENT
END:VCALENDAR
