BEGIN:VCALENDAR
VERSION:2.0
PRODID:icalendar-ruby
CALSCALE:GREGORIAN
BEGIN:VEVENT
DTSTAMP:20260423T011727Z
UID:7273be38-d650-4a50-9846-208b83d1bad0
DTSTART:20161014T080000
DTEND:20161014T190000
DESCRIPTION:
LOCATION:Трамплинная улица\, 1В
ORGANIZER:mailto:conference@vedomosti.ru
SUMMARY:Автоэволюция 2016
URL:http://events.vedomosti.ru/events/auto_16
BEGIN:VALARM
ACTION:DISPLAY
TRIGGER:-P1D
DESCRIPTION:Завтра\, в 08:00. Автоэволюция 2016
END:VALARM
END:VEVENT
END:VCALENDAR
