BEGIN:VCALENDAR
VERSION:2.0
PRODID:icalendar-ruby
CALSCALE:GREGORIAN
BEGIN:VEVENT
DTSTAMP:20260423T011727Z
UID:98eab51c-ec3e-47fc-9bc6-c6ff4906a34f
DTSTART:20150908T000000
DTEND:20150908T160000
DESCRIPTION:
LOCATION:ул. Автомобильная\, д. 6
ORGANIZER:mailto:conference@vedomosti.ru
SUMMARY:Автоэволюция 2015
URL:http://events.vedomosti.ru/events/auto_15
BEGIN:VALARM
ACTION:DISPLAY
TRIGGER:-P1D
DESCRIPTION:Завтра\, в 00:00. Автоэволюция 2015
END:VALARM
END:VEVENT
END:VCALENDAR
