BEGIN:VCALENDAR
VERSION:2.0
PRODID:icalendar-ruby
CALSCALE:GREGORIAN
BEGIN:VEVENT
DTSTAMP:20260423T011842Z
UID:b80744dc-8a56-4a0c-a978-2950e968e310
DTSTART:20141023T090000
DTEND:20141024T000000
DESCRIPTION:
LOCATION:ул. Автомобильная\, д. 6
ORGANIZER:mailto:conference@vedomosti.ru
SUMMARY:АвтоЭволюция 2014
URL:http://events.vedomosti.ru/events/auto_14
BEGIN:VALARM
ACTION:DISPLAY
TRIGGER:-P1D
DESCRIPTION:Завтра\, в 09:00. АвтоЭволюция 2014
END:VALARM
END:VEVENT
END:VCALENDAR
