BEGIN:VCALENDAR
VERSION:2.0
PRODID:icalendar-ruby
CALSCALE:GREGORIAN
BEGIN:VEVENT
DTSTAMP:20260422T100118Z
UID:671fd88c-cc6f-4c47-96a9-8ec50915ce0f
DTSTART:20111207T113300
DTEND:20111208T113400
DESCRIPTION:
LOCATION:ул. Автомобильная\, д. 6
ORGANIZER:mailto:conference@vedomosti.ru
SUMMARY:АвтоЭволюция 2011
URL:http://events.vedomosti.ru/events/auto11
BEGIN:VALARM
ACTION:DISPLAY
TRIGGER:-P1D
DESCRIPTION:Завтра\, в 11:33. АвтоЭволюция 2011
END:VALARM
END:VEVENT
END:VCALENDAR
