BEGIN:VCALENDAR
VERSION:2.0
PRODID:icalendar-ruby
CALSCALE:GREGORIAN
BEGIN:VEVENT
DTSTAMP:20260426T033218Z
UID:738abc35-d2de-4358-8041-9b7c820f532d
DTSTART:20081015T130600
DTEND:20081015T130600
DESCRIPTION:
LOCATION:ул. Балчуг\, 1
ORGANIZER:mailto:conference@vedomosti.ru
SUMMARY:Аудит и бухгалтерский учет в России
URL:http://events.vedomosti.ru/events/audit08
BEGIN:VALARM
ACTION:DISPLAY
TRIGGER:-P1D
DESCRIPTION:Завтра\, в 13:06. Аудит и бухгалтерски
 й учет в России
END:VALARM
END:VEVENT
END:VCALENDAR
