BEGIN:VCALENDAR
VERSION:2.0
PRODID:icalendar-ruby
CALSCALE:GREGORIAN
BEGIN:VEVENT
DTSTAMP:20260424T071521Z
UID:3c56eb8a-3211-42b2-aa8c-f9958d8c9c6e
DTSTART:20110930T155700
DTEND:20110930T155700
DESCRIPTION:
LOCATION:ул. Тверская\, 26
ORGANIZER:mailto:conference@vedomosti.ru
SUMMARY:Недооцененные и проблемные активы
URL:http://events.vedomosti.ru/events/asset
BEGIN:VALARM
ACTION:DISPLAY
TRIGGER:-P1D
DESCRIPTION:Завтра\, в 15:57. Недооцененные и проб
 лемные активы
END:VALARM
END:VEVENT
END:VCALENDAR
