BEGIN:VCALENDAR
VERSION:2.0
PRODID:icalendar-ruby
CALSCALE:GREGORIAN
BEGIN:VEVENT
DTSTAMP:20260426T000247Z
UID:33a50516-95e6-414b-a10a-3622f1c6da70
DTSTART:20190605T090000
DTEND:20190605T190000
DESCRIPTION:
LOCATION:БЦ «Белые Сады»\, ул. Лесная\, д. 7
ORGANIZER:mailto:conference@vedomosti.ru
SUMMARY:Международный коммерческий арбитра
 ж сегодня
URL:http://events.vedomosti.ru/events/arbitration19
BEGIN:VALARM
ACTION:DISPLAY
TRIGGER:-P1D
DESCRIPTION:Завтра\, в 09:00. Международный комме
 рческий арбитраж сегодня
END:VALARM
END:VEVENT
END:VCALENDAR
