BEGIN:VCALENDAR
VERSION:2.0
PRODID:icalendar-ruby
CALSCALE:GREGORIAN
BEGIN:VEVENT
DTSTAMP:20260421T095757Z
UID:915e319c-e15c-466b-b418-34945e1e1bf3
DTSTART:20181026T080000
DTEND:20181026T190000
DESCRIPTION:
LOCATION:Новинский бульвар\, д.8\, стр.2
ORGANIZER:mailto:conference@vedomosti.ru
SUMMARY:Антимонопольное регулирование в Рос
 сии
URL:http://events.vedomosti.ru/events/anti18
BEGIN:VALARM
ACTION:DISPLAY
TRIGGER:-P1D
DESCRIPTION:Завтра\, в 08:00. Антимонопольное рег
 улирование в России
END:VALARM
END:VEVENT
END:VCALENDAR
