BEGIN:VCALENDAR
VERSION:2.0
PRODID:icalendar-ruby
CALSCALE:GREGORIAN
BEGIN:VEVENT
DTSTAMP:20260419T144229Z
UID:9965b86a-deee-424d-b8d9-f68206efd67b
DTSTART:20211117T090000
DTEND:20211117T190000
DESCRIPTION:
LOCATION:ул. Тверская\, 26
ORGANIZER:mailto:conference@vedomosti.ru
SUMMARY:Аграрный форум России
URL:http://events.vedomosti.ru/events/agro21
BEGIN:VALARM
ACTION:DISPLAY
TRIGGER:-P1D
DESCRIPTION:Завтра\, в 09:00. Аграрный форум Росси
 и
END:VALARM
END:VEVENT
END:VCALENDAR
