BEGIN:VCALENDAR
VERSION:2.0
PRODID:icalendar-ruby
CALSCALE:GREGORIAN
BEGIN:VEVENT
DTSTAMP:20260423T193756Z
UID:a19fc7c9-4907-4829-9e7f-fd1035881f65
DTSTART:20191029T090000
DTEND:20191029T160000
DESCRIPTION:
LOCATION:Новый Арбат\, 32
ORGANIZER:mailto:conference@vedomosti.ru
SUMMARY:Аграрный форум России: открывая новы
 е границы
URL:http://events.vedomosti.ru/events/agr19
BEGIN:VALARM
ACTION:DISPLAY
TRIGGER:-P1D
DESCRIPTION:Завтра\, в 09:00. Аграрный форум Росси
 и: открывая новые границы
END:VALARM
END:VEVENT
END:VCALENDAR
