BEGIN:VCALENDAR
VERSION:2.0
PRODID:icalendar-ruby
CALSCALE:GREGORIAN
BEGIN:VEVENT
DTSTAMP:20260419T132916Z
UID:fc931198-a690-43fc-a623-876f10a208da
DTSTART:20120607T120300
DTEND:20120607T120300
DESCRIPTION:
LOCATION:
ORGANIZER:mailto:conference@vedomosti.ru
SUMMARY:Академия инвестора
URL:http://events.vedomosti.ru/events/academy_12
BEGIN:VALARM
ACTION:DISPLAY
TRIGGER:-P1D
DESCRIPTION:Завтра\, в 12:03. Академия инвестора
END:VALARM
END:VEVENT
END:VCALENDAR
