BEGIN:VCALENDAR
VERSION:2.0
PRODID:icalendar-ruby
CALSCALE:GREGORIAN
BEGIN:VEVENT
DTSTAMP:20260426T030641Z
UID:1fd9dd6b-e624-4b75-8c34-15f7e3463808
DTSTART:20181207T090000
DTEND:20181207T150000
DESCRIPTION:
LOCATION:ул. Тверская\, д. 22
ORGANIZER:mailto:conference@vedomosti.ru
SUMMARY:Макроэкономический прогноз на 2019 го
 д. Лучшие инвестиционные стратегии
URL:http://events.vedomosti.ru/events/academ18
BEGIN:VALARM
ACTION:DISPLAY
TRIGGER:-P1D
DESCRIPTION:Завтра\, в 09:00. Макроэкономический 
 прогноз на 2019 год. Лучшие инвестиционные
  стратегии
END:VALARM
END:VEVENT
END:VCALENDAR
