BEGIN:VCALENDAR
VERSION:2.0
PRODID:icalendar-ruby
CALSCALE:GREGORIAN
BEGIN:VEVENT
DTSTAMP:20260424T031049Z
UID:1b144bd8-054f-41c2-a903-82217d878275
DTSTART:20171208T090000
DTEND:20171208T190000
DESCRIPTION:
LOCATION:ул. Тверская\, д. 22
ORGANIZER:mailto:conference@vedomosti.ru
SUMMARY:Макроэкономический прогноз на 2018 го
 д. Лучшие инвестиционные стратегии
URL:http://events.vedomosti.ru/events/academ17
BEGIN:VALARM
ACTION:DISPLAY
TRIGGER:-P1D
DESCRIPTION:Завтра\, в 09:00. Макроэкономический 
 прогноз на 2018 год. Лучшие инвестиционные
  стратегии
END:VALARM
END:VEVENT
END:VCALENDAR
