BEGIN:VCALENDAR
VERSION:2.0
PRODID:icalendar-ruby
CALSCALE:GREGORIAN
BEGIN:VEVENT
DTSTAMP:20260423T153621Z
UID:c65ce4e3-9b70-4363-9f25-d1fc22cdc4f3
DTSTART:20240312T180000
DTEND:20240312T190000
DESCRIPTION:
LOCATION:Невский проспект\, 49/2
ORGANIZER:mailto:conference@vedomosti.ru
SUMMARY:Премия «Лидер мнения 2023»
URL:http://events.vedomosti.ru/events/_spb_lider_mneniya_2023
BEGIN:VALARM
ACTION:DISPLAY
TRIGGER:-P1D
DESCRIPTION:Завтра\, в 18:00. Премия «Лидер мнения
  2023»
END:VALARM
END:VEVENT
END:VCALENDAR
