BEGIN:VCALENDAR
VERSION:2.0
PRODID:icalendar-ruby
CALSCALE:GREGORIAN
BEGIN:VEVENT
DTSTAMP:20260425T124548Z
UID:e41e12bb-ff92-48d3-bf1c-a68de7fe2f5a
DTSTART:20161214T093000
DTEND:20161214T141500
DESCRIPTION:
LOCATION:ул. Тверская\, 26
ORGANIZER:mailto:conference@vedomosti.ru
SUMMARY:Налоговые итоги года
URL:http://events.vedomosti.ru/events/Nalogi16
BEGIN:VALARM
ACTION:DISPLAY
TRIGGER:-P1D
DESCRIPTION:Завтра\, в 09:30. Налоговые итоги года
END:VALARM
END:VEVENT
END:VCALENDAR
