BEGIN:VCALENDAR
VERSION:2.0
PRODID:icalendar-ruby
CALSCALE:GREGORIAN
BEGIN:VEVENT
DTSTAMP:20260423T084108Z
UID:46466671-7eb5-4677-bffb-a62d0b9210fb
DTSTART:20180313T090000
DTEND:20180314T160000
DESCRIPTION:
LOCATION:11 boulevard de la Croisette
ORGANIZER:mailto:conference@vedomosti.ru
SUMMARY:MIPIM 2018
URL:http://events.vedomosti.ru/events/Mipim18
BEGIN:VALARM
ACTION:DISPLAY
TRIGGER:-P1D
DESCRIPTION:Завтра\, в 09:00. MIPIM 2018
END:VALARM
END:VEVENT
END:VCALENDAR
