BEGIN:VCALENDAR
VERSION:2.0
PRODID:icalendar-ruby
CALSCALE:GREGORIAN
BEGIN:VEVENT
DTSTAMP:20260420T123804Z
UID:c34a5766-bbce-43a0-970b-a495ec8d6754
DTSTART:20170615T093000
DTEND:20170615T160000
DESCRIPTION:
LOCATION:улица Петровка\, 11
ORGANIZER:mailto:conference@vedomosti.ru
SUMMARY:Локализация производства в фармацев
 тической отрасли
URL:http://events.vedomosti.ru/events/LocalPharma17
BEGIN:VALARM
ACTION:DISPLAY
TRIGGER:-P1D
DESCRIPTION:Завтра\, в 09:30. Локализация произво
 дства в фармацевтической отрасли
END:VALARM
END:VEVENT
END:VCALENDAR
