BEGIN:VCALENDAR
VERSION:2.0
PRODID:icalendar-ruby
CALSCALE:GREGORIAN
BEGIN:VEVENT
DTSTAMP:20260420T200233Z
UID:8dfd7f89-dcd3-4a4b-998e-2d3c072e1500
DTSTART:20170314T093000
DTEND:20170314T160000
DESCRIPTION:
LOCATION:улица Петровка\, 11
ORGANIZER:mailto:conference@vedomosti.ru
SUMMARY:HR Legal 2017
URL:http://events.vedomosti.ru/events/HRlegal17
BEGIN:VALARM
ACTION:DISPLAY
TRIGGER:-P1D
DESCRIPTION:Завтра\, в 09:30. HR Legal 2017
END:VALARM
END:VEVENT
END:VCALENDAR
