BEGIN:VCALENDAR
VERSION:2.0
PRODID:icalendar-ruby
CALSCALE:GREGORIAN
BEGIN:VEVENT
DTSTAMP:20260422T235036Z
UID:4f391094-8d71-48c5-9716-a751a2141118
DTSTART:20191210T090000
DTEND:20191210T190000
DESCRIPTION:
LOCATION:22 Tverskaya street
ORGANIZER:mailto:conference@vedomosti.ru
SUMMARY:Электроника в России: будущее отрасл
 и
URL:http://events.vedomosti.ru/events/Electronics_2019
BEGIN:VALARM
ACTION:DISPLAY
TRIGGER:-P1D
DESCRIPTION:Завтра\, в 09:00. Электроника в России
 : будущее отрасли
END:VALARM
END:VEVENT
END:VCALENDAR
